{"text_format":"1","workbook":"xlsx","n_sheets":62,"sheets":["Report","100-00","100-01","100-02","101-00","101-01","101-02","101-03","102-00","102-01","102-02","103-00","103-01","103-02","104-00","104-01","104-02","105-00","106-00","106-01","106-02","106-03","107-00","200-00","200-01","201-00","201-01","202-00","202-01","202-02","203-00","204-00","204-01","205-00","206-00","207-00","207-01","207-02","208-00","209-00","210-00","211-00","212-00","213-00","214-00","214-01","215-00","215-01","215-02","215-03","216-00","216-01","216-02","217-00","218-00","219-00","219-01","220-00","220-01","220-02","220-03","221-00"],"not_rendered":{"charts":0,"images":1,"macros":1,"external_links":0,"defined_names":0,"comments":0,"pivot_tables":0},"unopened":[],"bounds":{"document_bytes":16777216,"sheet_cells":100000,"rows_first":2000,"rows_last":500,"rows_between":2000,"halvings":0,"cell_chars":16384,"cell_head_chars":4096},"cells_cut":0,"cells_raw":0,"read":"whole","date_system":"1900"}

{"sheet":"Report","index":0,"n_rows":63,"n_cols":6,"rows_kept":63,"cut":false,"hidden":false,"merged":[]}
["Account #","Primary Account","Sub-Account","Name","Description","Total"]
["100-00",100,"00","Fee Income - FAMF","Faculty Association Membership Fee Income",{"$f":"'100-00'!D$31","v":0}]
["100-01",100,"01","Fee Income - CATP","Campus Association Transfer Payment Income",{"$f":"'100-01'!D$31","v":0}]
["100-02",100,"02","Fee Income - FA Administered","Faculty Association Administered Fee Income (Students' Union does not collect fee)",{"$f":"'100-02'!D$31","v":0}]
["101-00",101,"00","Donations - Faculty","Donations by Faculty to Faculty Association",{"$f":"'101-00'!D$31","v":0}]
["101-01",101,"01","Donations - University","Donations from somewhere in the university not including Faculty",{"$f":"'101-01'!D$31","v":0}]
["101-02",101,"02","Donations - External Organization","Donations from an External Organization",{"$f":"'101-02'!D$31","v":0}]
["101-03",101,"03","Donations - Other","Donations from a source other than an external organization or the University.",{"$f":"'101-03'!D$31","v":0}]
["102-00",102,"00","Grant - University","Granting from inside the University",{"$f":"'102-00'!D$31","v":0}]
["102-01",102,"01","Grant - Students' Union","Granting from the Students' Union",{"$f":"'102-01'!D$31","v":0}]
["102-02",102,"02","Grant - External","Granting from anywhere external to the University of Alberta and Students Union",{"$f":"'102-02'!D$31","v":0}]
["103-00",103,"00","Sales - Lockers","Monies earned from locker sales",{"$f":"'103-00'!D$31","v":0}]
["103-01",103,"01","Sales - Merchandise","Monies earned from sales of FA related merchandise",{"$f":"'103-01'!D$31","v":0}]
["103-02",103,"02","Sales - Other","Monies earned from the sale of anything other than lockers or FA related merchandise",{"$f":"'103-02'!D$31","v":0}]
["104-00",104,"00","Royalties - Advertising","Monies earned from advertising for companies in handbooks, etc.",{"$f":"'104-00'!D$31","v":0}]
["104-01",104,"01","Royalties - Graduation","Monies earned from royalties from companies regarding graduation rings, yearbooks etc.",{"$f":"'104-01'!D$31","v":0}]
["104-02",104,"02","Royalties - Other","Royalties earned from anything other than graduation or advertisement",{"$f":"'104-02'!D$31","v":0}]
["105-00",105,"00","Fundraising","Monies earned from fundraising",{"$f":"'105-00'!D$31","v":0}]
["106-00",106,"00","Events - Admission/Tickets","Monies earned from ticket or admission sales for events",{"$f":"'106-00'!D$31","v":0}]
["106-01",106,"01","Events - Food","Monies earned from the sale of food at events",{"$f":"'106-01'!D$31","v":0}]
["106-02",106,"02","Events - Alcohol","Monies earned from the sale of alcohol at events",{"$f":"'106-02'!D$31","v":0}]
["106-03",106,"03","Events - Other","Monies earned from anything other than food alcohol or admission at an event.",{"$f":"'106-03'!D$31","v":0}]
["107-00",107,"00","Interest","Interest monies earned on Bank accounts/Investments",{"$f":"'107-00'!D$31","v":0}]
[]
["200-00",200,"00","General Meeting - Food","Monies spent on food at general meetings",{"$f":"'200-00'!D$31","v":0}]
["200-01",200,"01","General Meeting - Other","Other costs incurred by general meetings",{"$f":"'200-01'!D$31","v":0}]
["201-00",201,"00","Meetings - Food","Monies spent on food at any meeting other than a general meeting",{"$f":"'201-00'!D$31","v":0}]
["201-01",201,"01","Meetings - Other","Other costs incurred by any meeting other than a general meeting",{"$f":"'201-01'!D$31","v":0}]
["202-00",202,"00","Elections - By-Election","Costs incurred for the byelection, excluding FADRO pay",{"$f":"'202-00'!D$31","v":0}]
["202-01",202,"01","Elections - General Election","Costs incurred for the general election, exclusing FADRO pay",{"$f":"'202-01'!D$31","v":0}]
["202-02",202,"02","Elections - FADRO","Monies used to pay the individual running the election",{"$f":"'202-02'!D$31","v":0}]
["203-00",203,"00","Website","Monies used to maintain website",{"$f":"'203-00'!D$31","v":0}]
["204-00",204,"00","Administration - Office Supplies","Monies spent on office supplies",{"$f":"'204-00'!D$31","v":0}]
["204-01",204,"01","Administration - Other Expense","Monies spent on administration not include office supplies",{"$f":"'204-01'!D$31","v":0}]
["205-00",205,"00","Professional Organization Membership","Monies spent on membership in a profesional organization",{"$f":"'205-00'!D$31","v":0}]
["206-00",206,"00","Conferences","Monies used to send delegates to conferences",{"$f":"'206-00'!D$31","v":0}]
["207-00",207,"00","Granting - Student Groups","Monies used to grant a University of Alberta student group",{"$f":"'207-00'!D$31","v":0}]
["207-01",207,"01","Granting - Projects","Monies used to grant a project/initiative",{"$f":"'207-01'!D$31","v":0}]
["207-02",207,"02","Granting - Other","Monies used to grant anything except a project, initiative or student group",{"$f":"'207-02'!D$31","v":0}]
["208-00",208,"00","Scholarship","Monies awarded as a scholarship",{"$f":"'208-00'!D$31","v":0}]
["209-00",209,"00","Office Space","Monies spent on renting/maintaining the groups office space",{"$f":"'209-00'!D$31","v":0}]
["210-00",210,"00","Payroll","Monies spent on payroll for staff of the Faculty Association",{"$f":"'210-00'!D$31","v":0}]
["211-00",211,"00","Insurance","Monies spent on insurance policies for the group",{"$f":"'211-00'!D$31","v":0}]
["212-00",212,"00","Bank Fees","Monies spent on Bank Fees, Cheques, Etc.",{"$f":"'212-00'!D$31","v":0}]
["213-00",213,"00","Athletics","Monies spent on registering for sports and associated costs",{"$f":"'213-00'!D$31","v":0}]
["214-00",214,"00","Services - General","All costs associated with services not including administration",{"$f":"'214-00'!D$31","v":0}]
["214-01",214,"01","Services - Administration","Administration costs associated with services",{"$f":"'214-01'!D$31","v":0}]
["215-00",215,"00","Programming - Orientation","Costs associated with Student Orientation",{"$f":"'215-00'!D$31","v":0}]
["215-01",215,"01","Programming - Conferences/Training","Costs associated with putting on conferences or training",{"$f":"'215-01'!D$31","v":0}]
["215-02",215,"02","Programming - Retreats","Costs associated with holding retreats",{"$f":"'215-02'!D$31","v":0}]
["215-03",215,"03","Programming - Other","Costs associated with programming unrelated to orientation, conferences, retreats or training.",{"$f":"'215-03'!D$31","v":0}]
["216-00",216,"00","External - Advocacy","Costs Associated with Advocacy",{"$f":"'216-00'!D$31","v":0}]
["216-01",216,"01","External - Public Relaions","Costs Associated with Public Relations",{"$f":"'216-01'!D$31","v":0}]
["216-02",216,"02","External - Marketing","Costs Associated with Marketing",{"$f":"'216-02'!D$31","v":0}]
["217-00",217,"00","Yearbook","Costs Associated with making yearbooks",{"$f":"'217-00'!D$31","v":0}]
["218-00",218,"00","Volunteer Appreciation","Costs Associated with Volunteer appreciation",{"$f":"'218-00'!D$31","v":0}]
["219-00",219,"00","Graduation - Banquet","Costs Associated with hosting a graduation banquet",{"$f":"'219-00'!D$31","v":0}]
["219-01",219,"01","Graduation - Other","Costs Associated with graduation other than a banquet",{"$f":"'219-01'!D$31","v":0}]
["220-00",220,"00","Events - Rentals","Cost associated with anything being rented for a social event",{"$f":"'220-00'!D$31","v":0}]
["220-01",220,"01","Events - Food","Cost of Food for Social Events",{"$f":"'220-01'!D$31","v":0}]
["220-02",220,"02","Events - Alcohol","Cost of Alcohol for Social Events",{"$f":"'220-02'!D$31","v":0}]
["220-03",220,"03","Events - Other","Cost of anything not including food alcohol or rentals related to a social event",{"$f":"'220-03'!D$31","v":0}]
["221-00",221,"00","Donations","Money donated to a charitable cause",{"$f":"'221-00'!D$31","v":0}]

{"sheet":"100-00","index":1,"n_rows":31,"n_cols":4,"rows_kept":31,"cut":false,"hidden":false,"merged":[]}
["Date","Description","Receipt Code","Amount"]
[]
[]
[]
[]
[]
[]
[]
[]
[]
[]
[]
[]
[]
[]
[]
[]
[]
[]
[]
[]
[]
[]
[]
[]
[]
[]
[]
[]
[]
[null,null,"Total",{"$f":"SUM(D2:D30)","v":0}]

{"sheet":"100-01","index":2,"n_rows":31,"n_cols":4,"rows_kept":31,"cut":false,"hidden":false,"merged":[]}
["Date","Description","Receipt Code","Amount"]
[]
[]
[]
[]
[]
[]
[]
[]
[]
[]
[]
[]
[]
[]
[]
[]
[]
[]
[]
[]
[]
[]
[]
[]
[]
[]
[]
[]
[]
[null,null,"Total",{"$f":"SUM(D2:D30)","v":0}]

{"sheet":"100-02","index":3,"n_rows":31,"n_cols":4,"rows_kept":31,"cut":false,"hidden":false,"merged":[]}
["Date","Description","Receipt Code","Amount"]
[]
[]
[]
[]
[]
[]
[]
[]
[]
[]
[]
[]
[]
[]
[]
[]
[]
[]
[]
[]
[]
[]
[]
[]
[]
[]
[]
[]
[]
[null,null,"Total",{"$f":"SUM(D2:D30)","v":0}]

{"sheet":"101-00","index":4,"n_rows":31,"n_cols":4,"rows_kept":31,"cut":false,"hidden":false,"merged":[]}
["Date","Description","Receipt Code","Amount"]
[]
[]
[]
[]
[]
[]
[]
[]
[]
[]
[]
[]
[]
[]
[]
[]
[]
[]
[]
[]
[]
[]
[]
[]
[]
[]
[]
[]
[]
[null,null,"Total",{"$f":"SUM(D2:D30)","v":0}]

{"sheet":"101-01","index":5,"n_rows":31,"n_cols":4,"rows_kept":31,"cut":false,"hidden":false,"merged":[]}
["Date","Description","Receipt Code","Amount"]
[]
[]
[]
[]
[]
[]
[]
[]
[]
[]
[]
[]
[]
[]
[]
[]
[]
[]
[]
[]
[]
[]
[]
[]
[]
[]
[]
[]
[]
[null,null,"Total",{"$f":"SUM(D2:D30)","v":0}]

{"sheet":"101-02","index":6,"n_rows":31,"n_cols":4,"rows_kept":31,"cut":false,"hidden":false,"merged":[]}
["Date","Description","Receipt Code","Amount"]
[]
[]
[]
[]
[]
[]
[]
[]
[]
[]
[]
[]
[]
[]
[]
[]
[]
[]
[]
[]
[]
[]
[]
[]
[]
[]
[]
[]
[]
[null,null,"Total",{"$f":"SUM(D2:D30)","v":0}]

{"sheet":"101-03","index":7,"n_rows":31,"n_cols":4,"rows_kept":31,"cut":false,"hidden":false,"merged":[]}
["Date","Description","Receipt Code","Amount"]
[]
[]
[]
[]
[]
[]
[]
[]
[]
[]
[]
[]
[]
[]
[]
[]
[]
[]
[]
[]
[]
[]
[]
[]
[]
[]
[]
[]
[]
[null,null,"Total",{"$f":"SUM(D2:D30)","v":0}]

{"sheet":"102-00","index":8,"n_rows":31,"n_cols":4,"rows_kept":31,"cut":false,"hidden":false,"merged":[]}
["Date","Description","Receipt Code","Amount"]
[]
[]
[]
[]
[]
[]
[]
[]
[]
[]
[]
[]
[]
[]
[]
[]
[]
[]
[]
[]
[]
[]
[]
[]
[]
[]
[]
[]
[]
[null,null,"Total",{"$f":"SUM(D2:D30)","v":0}]

{"sheet":"102-01","index":9,"n_rows":31,"n_cols":4,"rows_kept":31,"cut":false,"hidden":false,"merged":[]}
["Date","Description","Receipt Code","Amount"]
[]
[]
[]
[]
[]
[]
[]
[]
[]
[]
[]
[]
[]
[]
[]
[]
[]
[]
[]
[]
[]
[]
[]
[]
[]
[]
[]
[]
[]
[null,null,"Total",{"$f":"SUM(D2:D30)","v":0}]

{"sheet":"102-02","index":10,"n_rows":31,"n_cols":4,"rows_kept":31,"cut":false,"hidden":false,"merged":[]}
["Date","Description","Receipt Code","Amount"]
[]
[]
[]
[]
[]
[]
[]
[]
[]
[]
[]
[]
[]
[]
[]
[]
[]
[]
[]
[]
[]
[]
[]
[]
[]
[]
[]
[]
[]
[null,null,"Total",{"$f":"SUM(D2:D30)","v":0}]

{"sheet":"103-00","index":11,"n_rows":31,"n_cols":4,"rows_kept":31,"cut":false,"hidden":false,"merged":[]}
["Date","Description","Receipt Code","Amount"]
[]
[]
[]
[]
[]
[]
[]
[]
[]
[]
[]
[]
[]
[]
[]
[]
[]
[]
[]
[]
[]
[]
[]
[]
[]
[]
[]
[]
[]
[null,null,"Total",{"$f":"SUM(D2:D30)","v":0}]

{"sheet":"103-01","index":12,"n_rows":31,"n_cols":4,"rows_kept":31,"cut":false,"hidden":false,"merged":[]}
["Date","Description","Receipt Code","Amount"]
[]
[]
[]
[]
[]
[]
[]
[]
[]
[]
[]
[]
[]
[]
[]
[]
[]
[]
[]
[]
[]
[]
[]
[]
[]
[]
[]
[]
[]
[null,null,"Total",{"$f":"SUM(D2:D30)","v":0}]

{"sheet":"103-02","index":13,"n_rows":31,"n_cols":4,"rows_kept":31,"cut":false,"hidden":false,"merged":[]}
["Date","Description","Receipt Code","Amount"]
[]
[]
[]
[]
[]
[]
[]
[]
[]
[]
[]
[]
[]
[]
[]
[]
[]
[]
[]
[]
[]
[]
[]
[]
[]
[]
[]
[]
[]
[null,null,"Total",{"$f":"SUM(D2:D30)","v":0}]

{"sheet":"104-00","index":14,"n_rows":31,"n_cols":4,"rows_kept":31,"cut":false,"hidden":false,"merged":[]}
["Date","Description","Receipt Code","Amount"]
[]
[]
[]
[]
[]
[]
[]
[]
[]
[]
[]
[]
[]
[]
[]
[]
[]
[]
[]
[]
[]
[]
[]
[]
[]
[]
[]
[]
[]
[null,null,"Total",{"$f":"SUM(D2:D30)","v":0}]

{"sheet":"104-01","index":15,"n_rows":31,"n_cols":4,"rows_kept":31,"cut":false,"hidden":false,"merged":[]}
["Date","Description","Receipt Code","Amount"]
[]
[]
[]
[]
[]
[]
[]
[]
[]
[]
[]
[]
[]
[]
[]
[]
[]
[]
[]
[]
[]
[]
[]
[]
[]
[]
[]
[]
[]
[null,null,"Total",{"$f":"SUM(D2:D30)","v":0}]

{"sheet":"104-02","index":16,"n_rows":31,"n_cols":4,"rows_kept":31,"cut":false,"hidden":false,"merged":[]}
["Date","Description","Receipt Code","Amount"]
[]
[]
[]
[]
[]
[]
[]
[]
[]
[]
[]
[]
[]
[]
[]
[]
[]
[]
[]
[]
[]
[]
[]
[]
[]
[]
[]
[]
[]
[null,null,"Total",{"$f":"SUM(D2:D30)","v":0}]

{"sheet":"105-00","index":17,"n_rows":31,"n_cols":4,"rows_kept":31,"cut":false,"hidden":false,"merged":[]}
["Date","Description","Receipt Code","Amount"]
[]
[]
[]
[]
[]
[]
[]
[]
[]
[]
[]
[]
[]
[]
[]
[]
[]
[]
[]
[]
[]
[]
[]
[]
[]
[]
[]
[]
[]
[null,null,"Total",{"$f":"SUM(D2:D30)","v":0}]

{"sheet":"106-00","index":18,"n_rows":31,"n_cols":4,"rows_kept":31,"cut":false,"hidden":false,"merged":[]}
["Date","Description","Receipt Code","Amount"]
[]
[]
[]
[]
[]
[]
[]
[]
[]
[]
[]
[]
[]
[]
[]
[]
[]
[]
[]
[]
[]
[]
[]
[]
[]
[]
[]
[]
[]
[null,null,"Total",{"$f":"SUM(D2:D30)","v":0}]

{"sheet":"106-01","index":19,"n_rows":31,"n_cols":4,"rows_kept":31,"cut":false,"hidden":false,"merged":[]}
["Date","Description","Receipt Code","Amount"]
[]
[]
[]
[]
[]
[]
[]
[]
[]
[]
[]
[]
[]
[]
[]
[]
[]
[]
[]
[]
[]
[]
[]
[]
[]
[]
[]
[]
[]
[null,null,"Total",{"$f":"SUM(D2:D30)","v":0}]

{"sheet":"106-02","index":20,"n_rows":31,"n_cols":4,"rows_kept":31,"cut":false,"hidden":false,"merged":[]}
["Date","Description","Receipt Code","Amount"]
[]
[]
[]
[]
[]
[]
[]
[]
[]
[]
[]
[]
[]
[]
[]
[]
[]
[]
[]
[]
[]
[]
[]
[]
[]
[]
[]
[]
[]
[null,null,"Total",{"$f":"SUM(D2:D30)","v":0}]

{"sheet":"106-03","index":21,"n_rows":31,"n_cols":4,"rows_kept":31,"cut":false,"hidden":false,"merged":[]}
["Date","Description","Receipt Code","Amount"]
[]
[]
[]
[]
[]
[]
[]
[]
[]
[]
[]
[]
[]
[]
[]
[]
[]
[]
[]
[]
[]
[]
[]
[]
[]
[]
[]
[]
[]
[null,null,"Total",{"$f":"SUM(D2:D30)","v":0}]

{"sheet":"107-00","index":22,"n_rows":31,"n_cols":4,"rows_kept":31,"cut":false,"hidden":false,"merged":[]}
["Date","Description","Receipt Code","Amount"]
[]
[]
[]
[]
[]
[]
[]
[]
[]
[]
[]
[]
[]
[]
[]
[]
[]
[]
[]
[]
[]
[]
[]
[]
[]
[]
[]
[]
[]
[null,null,"Total",{"$f":"SUM(D2:D30)","v":0}]

{"sheet":"200-00","index":23,"n_rows":31,"n_cols":4,"rows_kept":31,"cut":false,"hidden":false,"merged":[]}
["Date","Description","Receipt Code","Amount"]
[]
[]
[]
[]
[]
[]
[]
[]
[]
[]
[]
[]
[]
[]
[]
[]
[]
[]
[]
[]
[]
[]
[]
[]
[]
[]
[]
[]
[]
[null,null,"Total",{"$f":"SUM(D2:D30)","v":0}]

{"sheet":"200-01","index":24,"n_rows":31,"n_cols":4,"rows_kept":31,"cut":false,"hidden":false,"merged":[]}
["Date","Description","Receipt Code","Amount"]
[]
[]
[]
[]
[]
[]
[]
[]
[]
[]
[]
[]
[]
[]
[]
[]
[]
[]
[]
[]
[]
[]
[]
[]
[]
[]
[]
[]
[]
[null,null,"Total",{"$f":"SUM(D2:D30)","v":0}]

{"sheet":"201-00","index":25,"n_rows":31,"n_cols":4,"rows_kept":31,"cut":false,"hidden":false,"merged":[]}
["Date","Description","Receipt Code","Amount"]
[]
[]
[]
[]
[]
[]
[]
[]
[]
[]
[]
[]
[]
[]
[]
[]
[]
[]
[]
[]
[]
[]
[]
[]
[]
[]
[]
[]
[]
[null,null,"Total",{"$f":"SUM(D2:D30)","v":0}]

{"sheet":"201-01","index":26,"n_rows":31,"n_cols":4,"rows_kept":31,"cut":false,"hidden":false,"merged":[]}
["Date","Description","Receipt Code","Amount"]
[]
[]
[]
[]
[]
[]
[]
[]
[]
[]
[]
[]
[]
[]
[]
[]
[]
[]
[]
[]
[]
[]
[]
[]
[]
[]
[]
[]
[]
[null,null,"Total",{"$f":"SUM(D2:D30)","v":0}]

{"sheet":"202-00","index":27,"n_rows":31,"n_cols":4,"rows_kept":31,"cut":false,"hidden":false,"merged":[]}
["Date","Description","Receipt Code","Amount"]
[]
[]
[]
[]
[]
[]
[]
[]
[]
[]
[]
[]
[]
[]
[]
[]
[]
[]
[]
[]
[]
[]
[]
[]
[]
[]
[]
[]
[]
[null,null,"Total",{"$f":"SUM(D2:D30)","v":0}]

{"sheet":"202-01","index":28,"n_rows":31,"n_cols":4,"rows_kept":31,"cut":false,"hidden":false,"merged":[]}
["Date","Description","Receipt Code","Amount"]
[]
[]
[]
[]
[]
[]
[]
[]
[]
[]
[]
[]
[]
[]
[]
[]
[]
[]
[]
[]
[]
[]
[]
[]
[]
[]
[]
[]
[]
[null,null,"Total",{"$f":"SUM(D2:D30)","v":0}]

{"sheet":"202-02","index":29,"n_rows":31,"n_cols":4,"rows_kept":31,"cut":false,"hidden":false,"merged":[]}
["Date","Description","Receipt Code","Amount"]
[]
[]
[]
[]
[]
[]
[]
[]
[]
[]
[]
[]
[]
[]
[]
[]
[]
[]
[]
[]
[]
[]
[]
[]
[]
[]
[]
[]
[]
[null,null,"Total",{"$f":"SUM(D2:D30)","v":0}]

{"sheet":"203-00","index":30,"n_rows":31,"n_cols":4,"rows_kept":31,"cut":false,"hidden":false,"merged":[]}
["Date","Description","Receipt Code","Amount"]
[]
[]
[]
[]
[]
[]
[]
[]
[]
[]
[]
[]
[]
[]
[]
[]
[]
[]
[]
[]
[]
[]
[]
[]
[]
[]
[]
[]
[]
[null,null,"Total",{"$f":"SUM(D2:D30)","v":0}]

{"sheet":"204-00","index":31,"n_rows":31,"n_cols":4,"rows_kept":31,"cut":false,"hidden":false,"merged":[]}
["Date","Description","Receipt Code","Amount"]
[]
[]
[]
[]
[]
[]
[]
[]
[]
[]
[]
[]
[]
[]
[]
[]
[]
[]
[]
[]
[]
[]
[]
[]
[]
[]
[]
[]
[]
[null,null,"Total",{"$f":"SUM(D2:D30)","v":0}]

{"sheet":"204-01","index":32,"n_rows":31,"n_cols":4,"rows_kept":31,"cut":false,"hidden":false,"merged":[]}
["Date","Description","Receipt Code","Amount"]
[]
[]
[]
[]
[]
[]
[]
[]
[]
[]
[]
[]
[]
[]
[]
[]
[]
[]
[]
[]
[]
[]
[]
[]
[]
[]
[]
[]
[]
[null,null,"Total",{"$f":"SUM(D2:D30)","v":0}]

{"sheet":"205-00","index":33,"n_rows":31,"n_cols":4,"rows_kept":31,"cut":false,"hidden":false,"merged":[]}
["Date","Description","Receipt Code","Amount"]
[]
[]
[]
[]
[]
[]
[]
[]
[]
[]
[]
[]
[]
[]
[]
[]
[]
[]
[]
[]
[]
[]
[]
[]
[]
[]
[]
[]
[]
[null,null,"Total",{"$f":"SUM(D2:D30)","v":0}]

{"sheet":"206-00","index":34,"n_rows":31,"n_cols":4,"rows_kept":31,"cut":false,"hidden":false,"merged":[]}
["Date","Description","Receipt Code","Amount"]
[]
[]
[]
[]
[]
[]
[]
[]
[]
[]
[]
[]
[]
[]
[]
[]
[]
[]
[]
[]
[]
[]
[]
[]
[]
[]
[]
[]
[]
[null,null,"Total",{"$f":"SUM(D2:D30)","v":0}]

{"sheet":"207-00","index":35,"n_rows":31,"n_cols":4,"rows_kept":31,"cut":false,"hidden":false,"merged":[]}
["Date","Description","Receipt Code","Amount"]
[]
[]
[]
[]
[]
[]
[]
[]
[]
[]
[]
[]
[]
[]
[]
[]
[]
[]
[]
[]
[]
[]
[]
[]
[]
[]
[]
[]
[]
[null,null,"Total",{"$f":"SUM(D2:D30)","v":0}]

{"sheet":"207-01","index":36,"n_rows":31,"n_cols":4,"rows_kept":31,"cut":false,"hidden":false,"merged":[]}
["Date","Description","Receipt Code","Amount"]
[]
[]
[]
[]
[]
[]
[]
[]
[]
[]
[]
[]
[]
[]
[]
[]
[]
[]
[]
[]
[]
[]
[]
[]
[]
[]
[]
[]
[]
[null,null,"Total",{"$f":"SUM(D2:D30)","v":0}]

{"sheet":"207-02","index":37,"n_rows":31,"n_cols":4,"rows_kept":31,"cut":false,"hidden":false,"merged":[]}
["Date","Description","Receipt Code","Amount"]
[]
[]
[]
[]
[]
[]
[]
[]
[]
[]
[]
[]
[]
[]
[]
[]
[]
[]
[]
[]
[]
[]
[]
[]
[]
[]
[]
[]
[]
[null,null,"Total",{"$f":"SUM(D2:D30)","v":0}]

{"sheet":"208-00","index":38,"n_rows":31,"n_cols":4,"rows_kept":31,"cut":false,"hidden":false,"merged":[]}
["Date","Description","Receipt Code","Amount"]
[]
[]
[]
[]
[]
[]
[]
[]
[]
[]
[]
[]
[]
[]
[]
[]
[]
[]
[]
[]
[]
[]
[]
[]
[]
[]
[]
[]
[]
[null,null,"Total",{"$f":"SUM(D2:D30)","v":0}]

{"sheet":"209-00","index":39,"n_rows":31,"n_cols":4,"rows_kept":31,"cut":false,"hidden":false,"merged":[]}
["Date","Description","Receipt Code","Amount"]
[]
[]
[]
[]
[]
[]
[]
[]
[]
[]
[]
[]
[]
[]
[]
[]
[]
[]
[]
[]
[]
[]
[]
[]
[]
[]
[]
[]
[]
[null,null,"Total",{"$f":"SUM(D2:D30)","v":0}]

{"sheet":"210-00","index":40,"n_rows":31,"n_cols":4,"rows_kept":31,"cut":false,"hidden":false,"merged":[]}
["Date","Description","Receipt Code","Amount"]
[]
[]
[]
[]
[]
[]
[]
[]
[]
[]
[]
[]
[]
[]
[]
[]
[]
[]
[]
[]
[]
[]
[]
[]
[]
[]
[]
[]
[]
[null,null,"Total",{"$f":"SUM(D2:D30)","v":0}]

{"sheet":"211-00","index":41,"n_rows":31,"n_cols":4,"rows_kept":31,"cut":false,"hidden":false,"merged":[]}
["Date","Description","Receipt Code","Amount"]
[]
[]
[]
[]
[]
[]
[]
[]
[]
[]
[]
[]
[]
[]
[]
[]
[]
[]
[]
[]
[]
[]
[]
[]
[]
[]
[]
[]
[]
[null,null,"Total",{"$f":"SUM(D2:D30)","v":0}]

{"sheet":"212-00","index":42,"n_rows":31,"n_cols":4,"rows_kept":31,"cut":false,"hidden":false,"merged":[]}
["Date","Description","Receipt Code","Amount"]
[]
[]
[]
[]
[]
[]
[]
[]
[]
[]
[]
[]
[]
[]
[]
[]
[]
[]
[]
[]
[]
[]
[]
[]
[]
[]
[]
[]
[]
[null,null,"Total",{"$f":"SUM(D2:D30)","v":0}]

{"sheet":"213-00","index":43,"n_rows":31,"n_cols":4,"rows_kept":31,"cut":false,"hidden":false,"merged":[]}
["Date","Description","Receipt Code","Amount"]
[]
[]
[]
[]
[]
[]
[]
[]
[]
[]
[]
[]
[]
[]
[]
[]
[]
[]
[]
[]
[]
[]
[]
[]
[]
[]
[]
[]
[]
[null,null,"Total",{"$f":"SUM(D2:D30)","v":0}]

{"sheet":"214-00","index":44,"n_rows":31,"n_cols":4,"rows_kept":31,"cut":false,"hidden":false,"merged":[]}
["Date","Description","Receipt Code","Amount"]
[]
[]
[]
[]
[]
[]
[]
[]
[]
[]
[]
[]
[]
[]
[]
[]
[]
[]
[]
[]
[]
[]
[]
[]
[]
[]
[]
[]
[]
[null,null,"Total",{"$f":"SUM(D2:D30)","v":0}]

{"sheet":"214-01","index":45,"n_rows":31,"n_cols":4,"rows_kept":31,"cut":false,"hidden":false,"merged":[]}
["Date","Description","Receipt Code","Amount"]
[]
[]
[]
[]
[]
[]
[]
[]
[]
[]
[]
[]
[]
[]
[]
[]
[]
[]
[]
[]
[]
[]
[]
[]
[]
[]
[]
[]
[]
[null,null,"Total",{"$f":"SUM(D2:D30)","v":0}]

{"sheet":"215-00","index":46,"n_rows":31,"n_cols":4,"rows_kept":31,"cut":false,"hidden":false,"merged":[]}
["Date","Description","Receipt Code","Amount"]
[]
[]
[]
[]
[]
[]
[]
[]
[]
[]
[]
[]
[]
[]
[]
[]
[]
[]
[]
[]
[]
[]
[]
[]
[]
[]
[]
[]
[]
[null,null,"Total",{"$f":"SUM(D2:D30)","v":0}]

{"sheet":"215-01","index":47,"n_rows":31,"n_cols":4,"rows_kept":31,"cut":false,"hidden":false,"merged":[]}
["Date","Description","Receipt Code","Amount"]
[]
[]
[]
[]
[]
[]
[]
[]
[]
[]
[]
[]
[]
[]
[]
[]
[]
[]
[]
[]
[]
[]
[]
[]
[]
[]
[]
[]
[]
[null,null,"Total",{"$f":"SUM(D2:D30)","v":0}]

{"sheet":"215-02","index":48,"n_rows":31,"n_cols":4,"rows_kept":31,"cut":false,"hidden":false,"merged":[]}
["Date","Description","Receipt Code","Amount"]
[]
[]
[]
[]
[]
[]
[]
[]
[]
[]
[]
[]
[]
[]
[]
[]
[]
[]
[]
[]
[]
[]
[]
[]
[]
[]
[]
[]
[]
[null,null,"Total",{"$f":"SUM(D2:D30)","v":0}]

{"sheet":"215-03","index":49,"n_rows":31,"n_cols":4,"rows_kept":31,"cut":false,"hidden":false,"merged":[]}
["Date","Description","Receipt Code","Amount"]
[]
[]
[]
[]
[]
[]
[]
[]
[]
[]
[]
[]
[]
[]
[]
[]
[]
[]
[]
[]
[]
[]
[]
[]
[]
[]
[]
[]
[]
[null,null,"Total",{"$f":"SUM(D2:D30)","v":0}]

{"sheet":"216-00","index":50,"n_rows":31,"n_cols":4,"rows_kept":31,"cut":false,"hidden":false,"merged":[]}
["Date","Description","Receipt Code","Amount"]
[]
[]
[]
[]
[]
[]
[]
[]
[]
[]
[]
[]
[]
[]
[]
[]
[]
[]
[]
[]
[]
[]
[]
[]
[]
[]
[]
[]
[]
[null,null,"Total",{"$f":"SUM(D2:D30)","v":0}]

{"sheet":"216-01","index":51,"n_rows":31,"n_cols":4,"rows_kept":31,"cut":false,"hidden":false,"merged":[]}
["Date","Description","Receipt Code","Amount"]
[]
[]
[]
[]
[]
[]
[]
[]
[]
[]
[]
[]
[]
[]
[]
[]
[]
[]
[]
[]
[]
[]
[]
[]
[]
[]
[]
[]
[]
[null,null,"Total",{"$f":"SUM(D2:D30)","v":0}]

{"sheet":"216-02","index":52,"n_rows":31,"n_cols":4,"rows_kept":31,"cut":false,"hidden":false,"merged":[]}
["Date","Description","Receipt Code","Amount"]
[]
[]
[]
[]
[]
[]
[]
[]
[]
[]
[]
[]
[]
[]
[]
[]
[]
[]
[]
[]
[]
[]
[]
[]
[]
[]
[]
[]
[]
[null,null,"Total",{"$f":"SUM(D2:D30)","v":0}]

{"sheet":"217-00","index":53,"n_rows":31,"n_cols":4,"rows_kept":31,"cut":false,"hidden":false,"merged":[]}
["Date","Description","Receipt Code","Amount"]
[]
[]
[]
[]
[]
[]
[]
[]
[]
[]
[]
[]
[]
[]
[]
[]
[]
[]
[]
[]
[]
[]
[]
[]
[]
[]
[]
[]
[]
[null,null,"Total",{"$f":"SUM(D2:D30)","v":0}]

{"sheet":"218-00","index":54,"n_rows":31,"n_cols":4,"rows_kept":31,"cut":false,"hidden":false,"merged":[]}
["Date","Description","Receipt Code","Amount"]
[]
[]
[]
[]
[]
[]
[]
[]
[]
[]
[]
[]
[]
[]
[]
[]
[]
[]
[]
[]
[]
[]
[]
[]
[]
[]
[]
[]
[]
[null,null,"Total",{"$f":"SUM(D2:D30)","v":0}]

{"sheet":"219-00","index":55,"n_rows":31,"n_cols":4,"rows_kept":31,"cut":false,"hidden":false,"merged":[]}
["Date","Description","Receipt Code","Amount"]
[]
[]
[]
[]
[]
[]
[]
[]
[]
[]
[]
[]
[]
[]
[]
[]
[]
[]
[]
[]
[]
[]
[]
[]
[]
[]
[]
[]
[]
[null,null,"Total",{"$f":"SUM(D2:D30)","v":0}]

{"sheet":"219-01","index":56,"n_rows":31,"n_cols":4,"rows_kept":31,"cut":false,"hidden":false,"merged":[]}
["Date","Description","Receipt Code","Amount"]
[]
[]
[]
[]
[]
[]
[]
[]
[]
[]
[]
[]
[]
[]
[]
[]
[]
[]
[]
[]
[]
[]
[]
[]
[]
[]
[]
[]
[]
[null,null,"Total",{"$f":"SUM(D2:D30)","v":0}]

{"sheet":"220-00","index":57,"n_rows":31,"n_cols":4,"rows_kept":31,"cut":false,"hidden":false,"merged":[]}
["Date","Description","Receipt Code","Amount"]
[]
[]
[]
[]
[]
[]
[]
[]
[]
[]
[]
[]
[]
[]
[]
[]
[]
[]
[]
[]
[]
[]
[]
[]
[]
[]
[]
[]
[]
[null,null,"Total",{"$f":"SUM(D2:D30)","v":0}]

{"sheet":"220-01","index":58,"n_rows":31,"n_cols":4,"rows_kept":31,"cut":false,"hidden":false,"merged":[]}
["Date","Description","Receipt Code","Amount"]
[]
[]
[]
[]
[]
[]
[]
[]
[]
[]
[]
[]
[]
[]
[]
[]
[]
[]
[]
[]
[]
[]
[]
[]
[]
[]
[]
[]
[]
[null,null,"Total",{"$f":"SUM(D2:D30)","v":0}]

{"sheet":"220-02","index":59,"n_rows":31,"n_cols":4,"rows_kept":31,"cut":false,"hidden":false,"merged":[]}
["Date","Description","Receipt Code","Amount"]
[]
[]
[]
[]
[]
[]
[]
[]
[]
[]
[]
[]
[]
[]
[]
[]
[]
[]
[]
[]
[]
[]
[]
[]
[]
[]
[]
[]
[]
[null,null,"Total",{"$f":"SUM(D2:D30)","v":0}]

{"sheet":"220-03","index":60,"n_rows":31,"n_cols":4,"rows_kept":31,"cut":false,"hidden":false,"merged":[]}
["Date","Description","Receipt Code","Amount"]
[]
[]
[]
[]
[]
[]
[]
[]
[]
[]
[]
[]
[]
[]
[]
[]
[]
[]
[]
[]
[]
[]
[]
[]
[]
[]
[]
[]
[]
[null,null,"Total",{"$f":"SUM(D2:D30)","v":0}]

{"sheet":"221-00","index":61,"n_rows":31,"n_cols":4,"rows_kept":31,"cut":false,"hidden":false,"merged":[]}
["Date","Description","Receipt Code","Amount"]
[]
[]
[]
[]
[]
[]
[]
[]
[]
[]
[]
[]
[]
[]
[]
[]
[]
[]
[]
[]
[]
[]
[]
[]
[]
[]
[]
[]
[]
[null,null,"Total",{"$f":"SUM(D2:D30)","v":0}]